BEGIN:VCALENDAR
VERSION:2.0
PRODID:-//Miller Creek RV Park - ECPv6.15.20//NONSGML v1.0//EN
CALSCALE:GREGORIAN
METHOD:PUBLISH
X-ORIGINAL-URL:https://millercreekrvpark.com
X-WR-CALDESC:Events for Miller Creek RV Park
REFRESH-INTERVAL;VALUE=DURATION:PT1H
X-Robots-Tag:noindex
X-PUBLISHED-TTL:PT1H
BEGIN:VTIMEZONE
TZID:America/Chicago
BEGIN:DAYLIGHT
TZOFFSETFROM:-0600
TZOFFSETTO:-0500
TZNAME:CDT
DTSTART:20230312T080000
END:DAYLIGHT
BEGIN:STANDARD
TZOFFSETFROM:-0500
TZOFFSETTO:-0600
TZNAME:CST
DTSTART:20231105T070000
END:STANDARD
BEGIN:DAYLIGHT
TZOFFSETFROM:-0600
TZOFFSETTO:-0500
TZNAME:CDT
DTSTART:20240310T080000
END:DAYLIGHT
BEGIN:STANDARD
TZOFFSETFROM:-0500
TZOFFSETTO:-0600
TZNAME:CST
DTSTART:20241103T070000
END:STANDARD
BEGIN:DAYLIGHT
TZOFFSETFROM:-0600
TZOFFSETTO:-0500
TZNAME:CDT
DTSTART:20250309T080000
END:DAYLIGHT
BEGIN:STANDARD
TZOFFSETFROM:-0500
TZOFFSETTO:-0600
TZNAME:CST
DTSTART:20251102T070000
END:STANDARD
END:VTIMEZONE
BEGIN:VEVENT
DTSTART;TZID=America/Chicago:20240412T180000
DTEND;TZID=America/Chicago:20240412T210000
DTSTAMP:20260423T081151
CREATED:20240325T174641Z
LAST-MODIFIED:20240325T174641Z
UID:6371-1712944800-1712955600@millercreekrvpark.com
SUMMARY:Music Jam
DESCRIPTION:Music in the Rec Hall Every Friday at 6:00 PM.
URL:https://millercreekrvpark.com/event/music-jam-april/
ATTACH;FMTTYPE=image/png:https://millercreekrvpark.com/wp-content/uploads/2024/01/LIVE-MUSIC.png
END:VEVENT
END:VCALENDAR