BEGIN:VCALENDAR
VERSION:2.0
PRODID:-//Miller Creek RV Park - ECPv6.15.20//NONSGML v1.0//EN
CALSCALE:GREGORIAN
METHOD:PUBLISH
X-ORIGINAL-URL:https://millercreekrvpark.com
X-WR-CALDESC:Events for Miller Creek RV Park
REFRESH-INTERVAL;VALUE=DURATION:PT1H
X-Robots-Tag:noindex
X-PUBLISHED-TTL:PT1H
BEGIN:VTIMEZONE
TZID:America/Chicago
BEGIN:DAYLIGHT
TZOFFSETFROM:-0600
TZOFFSETTO:-0500
TZNAME:CDT
DTSTART:20240310T080000
END:DAYLIGHT
BEGIN:STANDARD
TZOFFSETFROM:-0500
TZOFFSETTO:-0600
TZNAME:CST
DTSTART:20241103T070000
END:STANDARD
BEGIN:DAYLIGHT
TZOFFSETFROM:-0600
TZOFFSETTO:-0500
TZNAME:CDT
DTSTART:20250309T080000
END:DAYLIGHT
BEGIN:STANDARD
TZOFFSETFROM:-0500
TZOFFSETTO:-0600
TZNAME:CST
DTSTART:20251102T070000
END:STANDARD
BEGIN:DAYLIGHT
TZOFFSETFROM:-0600
TZOFFSETTO:-0500
TZNAME:CDT
DTSTART:20260308T080000
END:DAYLIGHT
BEGIN:STANDARD
TZOFFSETFROM:-0500
TZOFFSETTO:-0600
TZNAME:CST
DTSTART:20261101T070000
END:STANDARD
END:VTIMEZONE
BEGIN:VEVENT
DTSTART;TZID=America/Chicago:20251017T183000
DTEND;TZID=America/Chicago:20251019T203000
DTSTAMP:20260421T072520
CREATED:20250922T181541Z
LAST-MODIFIED:20250922T181541Z
UID:7814-1760725800-1760905800@millercreekrvpark.com
SUMMARY:Dripping Springs Songwriter's Festival
DESCRIPTION:  \n 
URL:https://millercreekrvpark.com/event/songwritersfestival/
END:VEVENT
BEGIN:VEVENT
DTSTART;VALUE=DATE:20251018
DTEND;VALUE=DATE:20251019
DTSTAMP:20260421T072520
CREATED:20250922T181941Z
LAST-MODIFIED:20250922T181941Z
UID:7816-1760745600-1760831999@millercreekrvpark.com
SUMMARY:Blanco Market Days & Real Ale Ride
DESCRIPTION:  \n 
URL:https://millercreekrvpark.com/event/cardnight-2-2-3/
END:VEVENT
END:VCALENDAR