BEGIN:VCALENDAR
VERSION:2.0
PRODID:-//Miller Creek RV Park - ECPv6.15.20//NONSGML v1.0//EN
CALSCALE:GREGORIAN
METHOD:PUBLISH
X-WR-CALNAME:Miller Creek RV Park
X-ORIGINAL-URL:https://millercreekrvpark.com
X-WR-CALDESC:Events for Miller Creek RV Park
REFRESH-INTERVAL;VALUE=DURATION:PT1H
X-Robots-Tag:noindex
X-PUBLISHED-TTL:PT1H
BEGIN:VTIMEZONE
TZID:America/Chicago
BEGIN:DAYLIGHT
TZOFFSETFROM:-0600
TZOFFSETTO:-0500
TZNAME:CDT
DTSTART:20250309T080000
END:DAYLIGHT
BEGIN:STANDARD
TZOFFSETFROM:-0500
TZOFFSETTO:-0600
TZNAME:CST
DTSTART:20251102T070000
END:STANDARD
BEGIN:DAYLIGHT
TZOFFSETFROM:-0600
TZOFFSETTO:-0500
TZNAME:CDT
DTSTART:20260308T080000
END:DAYLIGHT
BEGIN:STANDARD
TZOFFSETFROM:-0500
TZOFFSETTO:-0600
TZNAME:CST
DTSTART:20261101T070000
END:STANDARD
BEGIN:DAYLIGHT
TZOFFSETFROM:-0600
TZOFFSETTO:-0500
TZNAME:CDT
DTSTART:20270314T080000
END:DAYLIGHT
BEGIN:STANDARD
TZOFFSETFROM:-0500
TZOFFSETTO:-0600
TZNAME:CST
DTSTART:20271107T070000
END:STANDARD
END:VTIMEZONE
BEGIN:VEVENT
DTSTART;TZID=America/Chicago:20260428T090000
DTEND;TZID=America/Chicago:20260428T220000
DTSTAMP:20260425T062929
CREATED:20260317T190745Z
LAST-MODIFIED:20260317T190745Z
UID:8202-1777366800-1777413600@millercreekrvpark.com
SUMMARY:Miller Creek Community Breakfast
DESCRIPTION:
URL:https://millercreekrvpark.com/event/community-breakfast-2/
LOCATION:Rec Hall
END:VEVENT
BEGIN:VEVENT
DTSTART;TZID=America/Chicago:20260505T170000
DTEND;TZID=America/Chicago:20260505T183000
DTSTAMP:20260425T062929
CREATED:20260423T175903Z
LAST-MODIFIED:20260423T175903Z
UID:8484-1778000400-1778005800@millercreekrvpark.com
SUMMARY:Cinco De Mayo Celebration
DESCRIPTION:Taco bar! Bring a side dish. \nRec Hall 5pm
URL:https://millercreekrvpark.com/event/cinco/
LOCATION:Rec Hall
END:VEVENT
BEGIN:VEVENT
DTSTART;TZID=America/Chicago:20260510T150000
DTEND;TZID=America/Chicago:20260510T170000
DTSTAMP:20260425T062929
CREATED:20260423T180032Z
LAST-MODIFIED:20260423T180032Z
UID:8485-1778425200-1778432400@millercreekrvpark.com
SUMMARY:Mother's Day Celebration
DESCRIPTION:Come to the Rec Hall for desserts! \nRec Hall 3pm
URL:https://millercreekrvpark.com/event/mothersday/
LOCATION:Rec Hall
END:VEVENT
BEGIN:VEVENT
DTSTART;TZID=America/Chicago:20260512T090000
DTEND;TZID=America/Chicago:20260512T110000
DTSTAMP:20260425T062929
CREATED:20260423T180233Z
LAST-MODIFIED:20260423T181222Z
UID:8486-1778576400-1778583600@millercreekrvpark.com
SUMMARY:Miller Creek Community Breakfast
DESCRIPTION:Rec Hall 9am
URL:https://millercreekrvpark.com/event/community-breakfast-2-2/
LOCATION:Rec Hall
END:VEVENT
BEGIN:VEVENT
DTSTART;TZID=America/Chicago:20260516T090000
DTEND;TZID=America/Chicago:20260516T150000
DTSTAMP:20260425T062929
CREATED:20260423T180724Z
LAST-MODIFIED:20260423T180724Z
UID:8489-1778922000-1778943600@millercreekrvpark.com
SUMMARY:Blanco Market Days
DESCRIPTION:300 Main St \nBlanco Tx \n9am-3pm
URL:https://millercreekrvpark.com/event/blanco/
LOCATION:Rec Hall
END:VEVENT
BEGIN:VEVENT
DTSTART;TZID=America/Chicago:20260521T190000
DTEND;TZID=America/Chicago:20260521T210000
DTSTAMP:20260425T062929
CREATED:20260423T181100Z
LAST-MODIFIED:20260423T181100Z
UID:8490-1779390000-1779397200@millercreekrvpark.com
SUMMARY:Miller Creek Movie Night
DESCRIPTION:Rec Hall 7pm
URL:https://millercreekrvpark.com/event/movie/
LOCATION:Rec Hall
END:VEVENT
BEGIN:VEVENT
DTSTART;TZID=America/Chicago:20260525T143000
DTEND;TZID=America/Chicago:20260525T153000
DTSTAMP:20260425T062929
CREATED:20260423T181443Z
LAST-MODIFIED:20260423T181443Z
UID:8491-1779719400-1779723000@millercreekrvpark.com
SUMMARY:Memorial Day Observance
DESCRIPTION:Rec Hall 2:30pm \nMoment of silence at 3pm
URL:https://millercreekrvpark.com/event/memorial-day-2/
LOCATION:Rec Hall
END:VEVENT
BEGIN:VEVENT
DTSTART;TZID=America/Chicago:20260526T090000
DTEND;TZID=America/Chicago:20260526T110000
DTSTAMP:20260425T062929
CREATED:20260423T180323Z
LAST-MODIFIED:20260423T181138Z
UID:8487-1779786000-1779793200@millercreekrvpark.com
SUMMARY:Miller Creek Community Breakfast
DESCRIPTION:Rec Hall 9am
URL:https://millercreekrvpark.com/event/community-breakfast-2-2-2/
LOCATION:Rec Hall
END:VEVENT
END:VCALENDAR