BEGIN:VCALENDAR
VERSION:2.0
PRODID:-//Miller Creek RV Park - ECPv6.15.20//NONSGML v1.0//EN
CALSCALE:GREGORIAN
METHOD:PUBLISH
X-ORIGINAL-URL:https://millercreekrvpark.com
X-WR-CALDESC:Events for Miller Creek RV Park
REFRESH-INTERVAL;VALUE=DURATION:PT1H
X-Robots-Tag:noindex
X-PUBLISHED-TTL:PT1H
BEGIN:VTIMEZONE
TZID:America/Chicago
BEGIN:DAYLIGHT
TZOFFSETFROM:-0600
TZOFFSETTO:-0500
TZNAME:CDT
DTSTART:20230312T080000
END:DAYLIGHT
BEGIN:STANDARD
TZOFFSETFROM:-0500
TZOFFSETTO:-0600
TZNAME:CST
DTSTART:20231105T070000
END:STANDARD
BEGIN:DAYLIGHT
TZOFFSETFROM:-0600
TZOFFSETTO:-0500
TZNAME:CDT
DTSTART:20240310T080000
END:DAYLIGHT
BEGIN:STANDARD
TZOFFSETFROM:-0500
TZOFFSETTO:-0600
TZNAME:CST
DTSTART:20241103T070000
END:STANDARD
BEGIN:DAYLIGHT
TZOFFSETFROM:-0600
TZOFFSETTO:-0500
TZNAME:CDT
DTSTART:20250309T080000
END:DAYLIGHT
BEGIN:STANDARD
TZOFFSETFROM:-0500
TZOFFSETTO:-0600
TZNAME:CST
DTSTART:20251102T070000
END:STANDARD
END:VTIMEZONE
BEGIN:VEVENT
DTSTART;TZID=America/Chicago:20240109T090000
DTEND;TZID=America/Chicago:20240109T090000
DTSTAMP:20260425T063731
CREATED:20240104T182400Z
LAST-MODIFIED:20240104T182400Z
UID:5898-1704790800-1704790800@millercreekrvpark.com
SUMMARY:Donuts & Coffee @ Rec Hall
DESCRIPTION:
URL:https://millercreekrvpark.com/event/donuts-coffee/
END:VEVENT
BEGIN:VEVENT
DTSTART;TZID=America/Chicago:20240109T140000
DTEND;TZID=America/Chicago:20240109T140000
DTSTAMP:20260425T063731
CREATED:20240104T181923Z
LAST-MODIFIED:20240104T181923Z
UID:5896-1704808800-1704808800@millercreekrvpark.com
SUMMARY:Arts & Crafts
DESCRIPTION:In the Rec Hall!
URL:https://millercreekrvpark.com/event/game-night-december7-2023-4-2-4-3-2-3/
ATTACH;FMTTYPE=image/png:https://millercreekrvpark.com/wp-content/uploads/2023/11/MCRV-Instagram-Posts-1.png
END:VEVENT
BEGIN:VEVENT
DTSTART;TZID=America/Chicago:20240110T140000
DTEND;TZID=America/Chicago:20240110T140000
DTSTAMP:20260425T063731
CREATED:20240104T193020Z
LAST-MODIFIED:20240104T195149Z
UID:5907-1704895200-1704895200@millercreekrvpark.com
SUMMARY:Cornhole
DESCRIPTION:At the Rec Hall Patio!
URL:https://millercreekrvpark.com/event/miller-creek-cornhole/
ATTACH;FMTTYPE=image/png:https://millercreekrvpark.com/wp-content/uploads/2023/11/MCRV-Instagram-Posts-3.png
END:VEVENT
BEGIN:VEVENT
DTSTART;TZID=America/Chicago:20240111T140000
DTEND;TZID=America/Chicago:20240111T140000
DTSTAMP:20260425T063731
CREATED:20240104T195844Z
LAST-MODIFIED:20240104T195844Z
UID:5913-1704981600-1704981600@millercreekrvpark.com
SUMMARY:LCR 2pm @ Rec Hall
DESCRIPTION:
URL:https://millercreekrvpark.com/event/millercreek-lcr-3/
END:VEVENT
BEGIN:VEVENT
DTSTART;TZID=America/Chicago:20240111T183000
DTEND;TZID=America/Chicago:20240111T183000
DTSTAMP:20260425T063731
CREATED:20240104T200416Z
LAST-MODIFIED:20240104T201329Z
UID:5917-1704997800-1704997800@millercreekrvpark.com
SUMMARY:Poker Game Night
DESCRIPTION:Game Night in the Rec Hall Every Thursday at 6:30 PM.
URL:https://millercreekrvpark.com/event/game-night-january11-2024/
ATTACH;FMTTYPE=image/png:https://millercreekrvpark.com/wp-content/uploads/2023/06/GAME-NIGHT.png
END:VEVENT
BEGIN:VEVENT
DTSTART;TZID=America/Chicago:20240112T140000
DTEND;TZID=America/Chicago:20240112T150000
DTSTAMP:20260425T063731
CREATED:20240104T200936Z
LAST-MODIFIED:20240104T200936Z
UID:5921-1705068000-1705071600@millercreekrvpark.com
SUMMARY:Music Jam
DESCRIPTION:Music in the Rec Hall Every Friday at 2:00 PM.
URL:https://millercreekrvpark.com/event/game-night-january12-2024/
ATTACH;FMTTYPE=image/png:https://millercreekrvpark.com/wp-content/uploads/2023/11/MCRV-Instagram-Posts.png
END:VEVENT
BEGIN:VEVENT
DTSTART;TZID=America/Chicago:20240113T180000
DTEND;TZID=America/Chicago:20240113T200000
DTSTAMP:20260425T063731
CREATED:20240104T202615Z
LAST-MODIFIED:20240104T202615Z
UID:5925-1705168800-1705176000@millercreekrvpark.com
SUMMARY:Andalusia Whiskey Movie Night & Food Truck
DESCRIPTION:Das Peach Haus\, 1406 S US Hwy 87\, Fredericksburg\, TX 78624
URL:https://millercreekrvpark.com/event/andalusia-whiskey-movie-night/
END:VEVENT
BEGIN:VEVENT
DTSTART;VALUE=DATE:20240114
DTEND;VALUE=DATE:20240115
DTSTAMP:20260425T063731
CREATED:20240104T191148Z
LAST-MODIFIED:20240104T192052Z
UID:5902-1705190400-1705276799@millercreekrvpark.com
SUMMARY:New Braunfels Antique Show
DESCRIPTION:New Braunfels TX Convention Center\, 375 S Castell Ave\, New Braunfels\, TX\, United States\, Texas
URL:https://millercreekrvpark.com/event/new-braunfels-antique-show/
END:VEVENT
BEGIN:VEVENT
DTSTART;TZID=America/Chicago:20240115T183000
DTEND;TZID=America/Chicago:20240115T183000
DTSTAMP:20260425T063731
CREATED:20240104T172713Z
LAST-MODIFIED:20240104T172713Z
UID:5889-1705343400-1705343400@millercreekrvpark.com
SUMMARY:Bingo Night
DESCRIPTION:Bingo Night in the Rec Hall Every Monday at 6:30 PM.
URL:https://millercreekrvpark.com/event/game-night-december7-2023-3-2-2-2-2-2/
ATTACH;FMTTYPE=image/png:https://millercreekrvpark.com/wp-content/uploads/2023/11/Bingo-Night.png
END:VEVENT
BEGIN:VEVENT
DTSTART;TZID=America/Chicago:20240116T180000
DTEND;TZID=America/Chicago:20240116T210000
DTSTAMP:20260425T063731
CREATED:20240104T192759Z
LAST-MODIFIED:20240104T192759Z
UID:5906-1705428000-1705438800@millercreekrvpark.com
SUMMARY:Cactus Country Band
DESCRIPTION:
URL:https://millercreekrvpark.com/event/cactus-country-band/
END:VEVENT
BEGIN:VEVENT
DTSTART;TZID=America/Chicago:20240117T140000
DTEND;TZID=America/Chicago:20240117T150000
DTSTAMP:20260425T063731
CREATED:20240104T195414Z
LAST-MODIFIED:20240104T195432Z
UID:5908-1705500000-1705503600@millercreekrvpark.com
SUMMARY:Activities Meeting
DESCRIPTION:2 pm in the Rec Hall.
URL:https://millercreekrvpark.com/event/activities-meeting-jan2024/
ATTACH;FMTTYPE=image/png:https://millercreekrvpark.com/wp-content/uploads/2023/10/ACTIVITIES-MTG.png
END:VEVENT
BEGIN:VEVENT
DTSTART;TZID=America/Chicago:20240117T150000
DTEND;TZID=America/Chicago:20240117T150000
DTSTAMP:20260425T063731
CREATED:20240104T195522Z
LAST-MODIFIED:20240116T174414Z
UID:5909-1705503600-1705503600@millercreekrvpark.com
SUMMARY:Cornhole
DESCRIPTION:At the Rec Hall Patio!
URL:https://millercreekrvpark.com/event/miller-creek-cornhole-2/
END:VEVENT
BEGIN:VEVENT
DTSTART;TZID=America/Chicago:20240118T140000
DTEND;TZID=America/Chicago:20240118T140000
DTSTAMP:20260425T063731
CREATED:20240104T195808Z
LAST-MODIFIED:20240104T195808Z
UID:5912-1705586400-1705586400@millercreekrvpark.com
SUMMARY:LCR 2pm @ Rec Hall
DESCRIPTION:
URL:https://millercreekrvpark.com/event/millercreek-lcr-2/
END:VEVENT
BEGIN:VEVENT
DTSTART;TZID=America/Chicago:20240118T183000
DTEND;TZID=America/Chicago:20240118T183000
DTSTAMP:20260425T063731
CREATED:20240104T200327Z
LAST-MODIFIED:20240104T201251Z
UID:5916-1705602600-1705602600@millercreekrvpark.com
SUMMARY:Poker Game Night
DESCRIPTION:Game Night in the Rec Hall Every Thursday at 6:30 PM.
URL:https://millercreekrvpark.com/event/game-night-january18-2024/
ATTACH;FMTTYPE=image/png:https://millercreekrvpark.com/wp-content/uploads/2023/06/GAME-NIGHT.png
END:VEVENT
BEGIN:VEVENT
DTSTART;TZID=America/Chicago:20240119T140000
DTEND;TZID=America/Chicago:20240119T150000
DTSTAMP:20260425T063731
CREATED:20240104T200840Z
LAST-MODIFIED:20240104T200840Z
UID:5920-1705672800-1705676400@millercreekrvpark.com
SUMMARY:Music Jam
DESCRIPTION:Music in the Rec Hall Every Friday at 2:00 PM.
URL:https://millercreekrvpark.com/event/game-night-january19-2024/
ATTACH;FMTTYPE=image/png:https://millercreekrvpark.com/wp-content/uploads/2023/11/MCRV-Instagram-Posts.png
END:VEVENT
BEGIN:VEVENT
DTSTART;VALUE=DATE:20240121
DTEND;VALUE=DATE:20240122
DTSTAMP:20260425T063731
CREATED:20240104T191933Z
LAST-MODIFIED:20240104T192010Z
UID:5904-1705795200-1705881599@millercreekrvpark.com
SUMMARY:Fredericksburg Gem & Mineral Show
DESCRIPTION:At Lady Bird Johnson Municipal Park\, \n432 Lady Bird Drive\, Pioneer Pavilion\, Fredericksburg\, TX 78624
URL:https://millercreekrvpark.com/event/fredericksburg-gem-mineral-show/
END:VEVENT
BEGIN:VEVENT
DTSTART;TZID=America/Chicago:20240122T183000
DTEND;TZID=America/Chicago:20240122T183000
DTSTAMP:20260425T063731
CREATED:20240104T172816Z
LAST-MODIFIED:20240104T172816Z
UID:5890-1705948200-1705948200@millercreekrvpark.com
SUMMARY:Bingo Night
DESCRIPTION:Bingo Night in the Rec Hall Every Monday at 6:30 PM.
URL:https://millercreekrvpark.com/event/game-night-december7-2023-3-2-2-2-2-2-2/
ATTACH;FMTTYPE=image/png:https://millercreekrvpark.com/wp-content/uploads/2023/11/Bingo-Night.png
END:VEVENT
BEGIN:VEVENT
DTSTART;TZID=America/Chicago:20240123T090000
DTEND;TZID=America/Chicago:20240123T090000
DTSTAMP:20260425T063731
CREATED:20240104T182503Z
LAST-MODIFIED:20240104T182503Z
UID:5899-1706000400-1706000400@millercreekrvpark.com
SUMMARY:Donuts & Coffee @ Rec Hall
DESCRIPTION:
URL:https://millercreekrvpark.com/event/donuts-coffee-2/
END:VEVENT
BEGIN:VEVENT
DTSTART;TZID=America/Chicago:20240123T140000
DTEND;TZID=America/Chicago:20240123T140000
DTSTAMP:20260425T063731
CREATED:20240104T182100Z
LAST-MODIFIED:20240104T182100Z
UID:5897-1706018400-1706018400@millercreekrvpark.com
SUMMARY:Arts & Crafts
DESCRIPTION:In the Rec Hall!
URL:https://millercreekrvpark.com/event/game-night-december7-2023-4-2-4-3-2-3-2/
ATTACH;FMTTYPE=image/png:https://millercreekrvpark.com/wp-content/uploads/2023/11/MCRV-Instagram-Posts-1.png
END:VEVENT
BEGIN:VEVENT
DTSTART;TZID=America/Chicago:20240124T193000
DTEND;TZID=America/Chicago:20240124T193000
DTSTAMP:20260425T063731
CREATED:20240104T201605Z
LAST-MODIFIED:20240104T201605Z
UID:5923-1706124600-1706124600@millercreekrvpark.com
SUMMARY:Old Ironhorse Saloon Karaoke
DESCRIPTION:Starts at 7:30pm! 621 Chandler St\, Blanco\, TX 78606
URL:https://millercreekrvpark.com/event/old-ironhorse-saloon-karaoke/
END:VEVENT
BEGIN:VEVENT
DTSTART;TZID=America/Chicago:20240125T140000
DTEND;TZID=America/Chicago:20240125T140000
DTSTAMP:20260425T063731
CREATED:20240104T195723Z
LAST-MODIFIED:20240104T195723Z
UID:5911-1706191200-1706191200@millercreekrvpark.com
SUMMARY:LCR 2pm @ Rec Hall
DESCRIPTION:
URL:https://millercreekrvpark.com/event/millercreek-lcr/
END:VEVENT
BEGIN:VEVENT
DTSTART;TZID=America/Chicago:20240125T183000
DTEND;TZID=America/Chicago:20240125T183000
DTSTAMP:20260425T063731
CREATED:20240104T200240Z
LAST-MODIFIED:20240104T201208Z
UID:5915-1706207400-1706207400@millercreekrvpark.com
SUMMARY:Poker Game Night
DESCRIPTION:Game Night in the Rec Hall Every Thursday at 6:30 PM.
URL:https://millercreekrvpark.com/event/game-night-january25-2024/
ATTACH;FMTTYPE=image/png:https://millercreekrvpark.com/wp-content/uploads/2023/06/GAME-NIGHT.png
END:VEVENT
BEGIN:VEVENT
DTSTART;TZID=America/Chicago:20240126T140000
DTEND;TZID=America/Chicago:20240126T140000
DTSTAMP:20260425T063731
CREATED:20240116T180520Z
LAST-MODIFIED:20240116T180810Z
UID:6078-1706277600-1706277600@millercreekrvpark.com
SUMMARY:Music Jam
DESCRIPTION:Music in the Rec Hall Every Friday at 2:00 PM.
URL:https://millercreekrvpark.com/event/game-night-jan-2024/
ATTACH;FMTTYPE=image/png:https://millercreekrvpark.com/wp-content/uploads/2023/11/MCRV-Instagram-Posts.png
END:VEVENT
BEGIN:VEVENT
DTSTART;TZID=America/Chicago:20240127T113000
DTEND;TZID=America/Chicago:20240127T143000
DTSTAMP:20260425T063731
CREATED:20240104T202952Z
LAST-MODIFIED:20240110T071634Z
UID:5926-1706355000-1706365800@millercreekrvpark.com
SUMMARY:Farmstand Farmer's Market
DESCRIPTION:Bulverde\, TX
URL:https://millercreekrvpark.com/event/farmstand-farmers-market/
END:VEVENT
BEGIN:VEVENT
DTSTART;TZID=America/Chicago:20240128T113000
DTEND;TZID=America/Chicago:20240128T133000
DTSTAMP:20260425T063731
CREATED:20240104T192332Z
LAST-MODIFIED:20240104T192832Z
UID:5905-1706441400-1706448600@millercreekrvpark.com
SUMMARY:"Sit & Enjoy" Mediterranean Brunch @ Das Peach Haus
DESCRIPTION:Das Peach Haus\, 1406 S US Hwy 87\, Fredericksburg\, TX 78624
URL:https://millercreekrvpark.com/event/mediterranean-brunch/
END:VEVENT
BEGIN:VEVENT
DTSTART;TZID=America/Chicago:20240129T183000
DTEND;TZID=America/Chicago:20240129T183000
DTSTAMP:20260425T063731
CREATED:20240104T172854Z
LAST-MODIFIED:20240104T172854Z
UID:5891-1706553000-1706553000@millercreekrvpark.com
SUMMARY:Bingo Night
DESCRIPTION:Bingo Night in the Rec Hall Every Monday at 6:30 PM.
URL:https://millercreekrvpark.com/event/game-night-december7-2023-3-2-2-2-2-2-2-2/
ATTACH;FMTTYPE=image/png:https://millercreekrvpark.com/wp-content/uploads/2023/11/Bingo-Night.png
END:VEVENT
BEGIN:VEVENT
DTSTART;TZID=America/Chicago:20240130T090000
DTEND;TZID=America/Chicago:20240130T090000
DTSTAMP:20260425T063731
CREATED:20240104T182542Z
LAST-MODIFIED:20240104T182542Z
UID:5900-1706605200-1706605200@millercreekrvpark.com
SUMMARY:Donuts & Coffee @ Rec Hall
DESCRIPTION:
URL:https://millercreekrvpark.com/event/donuts-coffee-2-2/
END:VEVENT
BEGIN:VEVENT
DTSTART;TZID=America/Chicago:20240130T173000
DTEND;TZID=America/Chicago:20240130T173000
DTSTAMP:20260425T063731
CREATED:20240104T181732Z
LAST-MODIFIED:20240104T181732Z
UID:5895-1706635800-1706635800@millercreekrvpark.com
SUMMARY:Potluck in the Rec Hall @5:30
DESCRIPTION:
URL:https://millercreekrvpark.com/event/rocking-j-ranch-home-tour-and-market-3-2-2-2-11-2-2/
ATTACH;FMTTYPE=image/png:https://millercreekrvpark.com/wp-content/uploads/2024/01/POTLUVK.png
END:VEVENT
BEGIN:VEVENT
DTSTART;TZID=America/Chicago:20240131T140000
DTEND;TZID=America/Chicago:20240131T140000
DTSTAMP:20260425T063731
CREATED:20240104T195557Z
LAST-MODIFIED:20240104T195557Z
UID:5910-1706709600-1706709600@millercreekrvpark.com
SUMMARY:Cornhole
DESCRIPTION:At the Rec Hall Patio!
URL:https://millercreekrvpark.com/event/miller-creek-cornhole-3/
ATTACH;FMTTYPE=image/png:https://millercreekrvpark.com/wp-content/uploads/2023/11/MCRV-Instagram-Posts-3.png
END:VEVENT
BEGIN:VEVENT
DTSTART;TZID=America/Chicago:20240201T140000
DTEND;TZID=America/Chicago:20240201T140000
DTSTAMP:20260425T063731
CREATED:20240116T175210Z
LAST-MODIFIED:20240116T175407Z
UID:6068-1706796000-1706796000@millercreekrvpark.com
SUMMARY:LCR 2pm @ Rec Hall
DESCRIPTION:
URL:https://millercreekrvpark.com/event/millercreek-lcr-feb-2/
END:VEVENT
END:VCALENDAR