BEGIN:VCALENDAR
VERSION:2.0
PRODID:-//Miller Creek RV Park - ECPv6.15.20//NONSGML v1.0//EN
CALSCALE:GREGORIAN
METHOD:PUBLISH
X-WR-CALNAME:Miller Creek RV Park
X-ORIGINAL-URL:https://millercreekrvpark.com
X-WR-CALDESC:Events for Miller Creek RV Park
REFRESH-INTERVAL;VALUE=DURATION:PT1H
X-Robots-Tag:noindex
X-PUBLISHED-TTL:PT1H
BEGIN:VTIMEZONE
TZID:UTC
BEGIN:STANDARD
TZOFFSETFROM:+0000
TZOFFSETTO:+0000
TZNAME:UTC
DTSTART:20230101T000000
END:STANDARD
END:VTIMEZONE
BEGIN:VEVENT
DTSTART;VALUE=DATE:20241225
DTEND;VALUE=DATE:20241226
DTSTAMP:20260425T104837
CREATED:20241111T214823Z
LAST-MODIFIED:20241111T214823Z
UID:7111-1735084800-1735171199@millercreekrvpark.com
SUMMARY:Christmas Day
DESCRIPTION:Office closed!
URL:https://millercreekrvpark.com/event/christmas/
LOCATION:Rec Hall
END:VEVENT
END:VCALENDAR